BEGIN:VCALENDAR
VERSION:2.0
PRODID:-//Mercer Point - ECPv6.13.0//NONSGML v1.0//EN
CALSCALE:GREGORIAN
METHOD:PUBLISH
X-WR-CALNAME:Mercer Point
X-ORIGINAL-URL:https://mercerpoint.unitedwebworks.com
X-WR-CALDESC:Events for Mercer Point
REFRESH-INTERVAL;VALUE=DURATION:PT1H
X-Robots-Tag:noindex
X-PUBLISHED-TTL:PT1H
BEGIN:VTIMEZONE
TZID:America/New_York
BEGIN:DAYLIGHT
TZOFFSETFROM:-0500
TZOFFSETTO:-0400
TZNAME:EDT
DTSTART:20250309T070000
END:DAYLIGHT
BEGIN:STANDARD
TZOFFSETFROM:-0400
TZOFFSETTO:-0500
TZNAME:EST
DTSTART:20251102T060000
END:STANDARD
END:VTIMEZONE
BEGIN:VEVENT
DTSTART;TZID=America/New_York:20251021T180000
DTEND;TZID=America/New_York:20251021T190000
DTSTAMP:20260421T113358
CREATED:20250709T154344Z
LAST-MODIFIED:20250709T154344Z
UID:10000013-1761069600-1761073200@mercerpoint.unitedwebworks.com
SUMMARY:October 2025 Annual Meeting
DESCRIPTION:Meetings are held in the clubhouse from 6-7\nAll Homeowners are welcome to attend.
URL:https://mercerpoint.unitedwebworks.com/event/october-2025-annual-meeting/
LOCATION:Mercer Point Condominium Association\, 100 Walden Park Dr\, Savannah\, GA\, 31410\, United States
CATEGORIES:Annual Meeting,Board Meeting
ATTACH;FMTTYPE=image/png:https://mercerpoint.unitedwebworks.com/wp-content/uploads/2025/07/BoardMeeting.png
END:VEVENT
END:VCALENDAR